BEGIN:VCALENDAR
VERSION:2.0
PRODID:-//Bexley Magic Society - ECPv5.9.1//NONSGML v1.0//EN
CALSCALE:GREGORIAN
METHOD:PUBLISH
X-WR-CALNAME:Bexley Magic Society
X-ORIGINAL-URL:http://bexleymagic.org.uk
X-WR-CALDESC:Events for Bexley Magic Society
BEGIN:VTIMEZONE
TZID:Europe/London
BEGIN:DAYLIGHT
TZOFFSETFROM:+0000
TZOFFSETTO:+0100
TZNAME:BST
DTSTART:20240331T010000
END:DAYLIGHT
BEGIN:STANDARD
TZOFFSETFROM:+0100
TZOFFSETTO:+0000
TZNAME:GMT
DTSTART:20241027T010000
END:STANDARD
END:VTIMEZONE
BEGIN:VEVENT
DTSTART;TZID=Europe/London:20240501T193000
DTEND;TZID=Europe/London:20240501T220000
DTSTAMP:20260424T101134
CREATED:20240206T172547Z
LAST-MODIFIED:20240206T172547Z
UID:973-1714591800-1714600800@bexleymagic.org.uk
SUMMARY:Mental magic
DESCRIPTION:Bring along your favourite mental magic effects\, perhaps it ws something Derren Brown did to inspire you? Maybe you know Corinda’s 14th step. \nA prize for the most original effect (voted by the audience) Booby prizes for the least inventive effect.  \n\n\n	Related
URL:http://bexleymagic.org.uk/event/mental-magic/
LOCATION:Club House\, Barton Close
ATTACH;FMTTYPE=image/jpeg:http://bexleymagic.org.uk/wp-content/uploads/2024/02/logo-2-scaled.jpg
END:VEVENT
END:VCALENDAR