BEGIN:VCALENDAR
VERSION:2.0
PRODID:-//Bexley Magic Society - ECPv5.9.1//NONSGML v1.0//EN
CALSCALE:GREGORIAN
METHOD:PUBLISH
X-WR-CALNAME:Bexley Magic Society
X-ORIGINAL-URL:http://bexleymagic.org.uk
X-WR-CALDESC:Events for Bexley Magic Society
BEGIN:VTIMEZONE
TZID:Europe/London
BEGIN:DAYLIGHT
TZOFFSETFROM:+0000
TZOFFSETTO:+0100
TZNAME:BST
DTSTART:20220327T010000
END:DAYLIGHT
BEGIN:STANDARD
TZOFFSETFROM:+0100
TZOFFSETTO:+0000
TZNAME:GMT
DTSTART:20221030T010000
END:STANDARD
END:VTIMEZONE
BEGIN:VEVENT
DTSTART;TZID=Europe/London:20220907T200000
DTEND;TZID=Europe/London:20220907T220000
DTSTAMP:20260419T221406
CREATED:20220507T140521Z
LAST-MODIFIED:20220507T140521Z
UID:851-1662580800-1662588000@bexleymagic.org.uk
SUMMARY:Shhh - it's a secret!
DESCRIPTION:A mystery evening… \nMwah\, mwah\, mwah! \n\n\n	Related
URL:http://bexleymagic.org.uk/event/shhh-its-a-secret-2-2/
ATTACH;FMTTYPE=image/jpeg:http://bexleymagic.org.uk/wp-content/uploads/2020/01/images-6.jpeg
END:VEVENT
END:VCALENDAR