BEGIN:VCALENDAR
VERSION:2.0
PRODID:-//Bexley Magic Society - ECPv5.9.1//NONSGML v1.0//EN
CALSCALE:GREGORIAN
METHOD:PUBLISH
X-WR-CALNAME:Bexley Magic Society
X-ORIGINAL-URL:http://bexleymagic.org.uk
X-WR-CALDESC:Events for Bexley Magic Society
BEGIN:VTIMEZONE
TZID:Europe/London
BEGIN:DAYLIGHT
TZOFFSETFROM:+0000
TZOFFSETTO:+0100
TZNAME:BST
DTSTART:20240331T010000
END:DAYLIGHT
BEGIN:STANDARD
TZOFFSETFROM:+0100
TZOFFSETTO:+0000
TZNAME:GMT
DTSTART:20241027T010000
END:STANDARD
END:VTIMEZONE
BEGIN:VEVENT
DTSTART;TZID=Europe/London:20240904T193000
DTEND;TZID=Europe/London:20240904T220000
DTSTAMP:20260424T115733
CREATED:20240206T183452Z
LAST-MODIFIED:20240206T183452Z
UID:1000-1725478200-1725487200@bexleymagic.org.uk
SUMMARY:Jason Simmons - Building your online presence
DESCRIPTION:Jason Simmons to host an evening sharing some tools and techniques that you can use to build your online presence\, how to create an electronic press kit that you can present to bookers. 
URL:http://bexleymagic.org.uk/event/jason-simmons-building-your-online-presence/
LOCATION:Club House\, Barton Close
ATTACH;FMTTYPE=image/jpeg:http://bexleymagic.org.uk/wp-content/uploads/2024/02/Logo.jpg
END:VEVENT
END:VCALENDAR