BEGIN:VCALENDAR
VERSION:2.0
PRODID:-//Bexley Magic Society - ECPv5.9.1//NONSGML v1.0//EN
CALSCALE:GREGORIAN
METHOD:PUBLISH
X-WR-CALNAME:Bexley Magic Society
X-ORIGINAL-URL:http://bexleymagic.org.uk
X-WR-CALDESC:Events for Bexley Magic Society
BEGIN:VTIMEZONE
TZID:Europe/London
BEGIN:DAYLIGHT
TZOFFSETFROM:+0000
TZOFFSETTO:+0100
TZNAME:BST
DTSTART:20240331T010000
END:DAYLIGHT
BEGIN:STANDARD
TZOFFSETFROM:+0100
TZOFFSETTO:+0000
TZNAME:GMT
DTSTART:20241027T010000
END:STANDARD
END:VTIMEZONE
BEGIN:VEVENT
DTSTART;TZID=Europe/London:20241002T193000
DTEND;TZID=Europe/London:20241002T220000
DTSTAMP:20260424T095652
CREATED:20240206T231653Z
LAST-MODIFIED:20240206T231653Z
UID:1009-1727897400-1727906400@bexleymagic.org.uk
SUMMARY:Visiting lecture - El Baldiniho
DESCRIPTION:El baldiniho is a comedy headline act\, childrens entertainer and holiday park guest entertainer who has been making a living from magic for more than a decade. \nEl will be sharing tips and tricks of the trade that can give you a leg up in to the world of magic.  \n  \n 
URL:http://bexleymagic.org.uk/event/visiting-lecture-el-baldiniho/
LOCATION:Club House\, Barton Close
ATTACH;FMTTYPE=image/webp:http://bexleymagic.org.uk/wp-content/uploads/2024/02/el-baldiniho.jpg.webp
END:VEVENT
END:VCALENDAR