BEGIN:VCALENDAR
VERSION:2.0
PRODID:-//Bexley Magic Society - ECPv5.9.1//NONSGML v1.0//EN
CALSCALE:GREGORIAN
METHOD:PUBLISH
X-WR-CALNAME:Bexley Magic Society
X-ORIGINAL-URL:http://bexleymagic.org.uk
X-WR-CALDESC:Events for Bexley Magic Society
BEGIN:VTIMEZONE
TZID:Europe/London
BEGIN:DAYLIGHT
TZOFFSETFROM:+0000
TZOFFSETTO:+0100
TZNAME:BST
DTSTART:20240331T010000
END:DAYLIGHT
BEGIN:STANDARD
TZOFFSETFROM:+0100
TZOFFSETTO:+0000
TZNAME:GMT
DTSTART:20241027T010000
END:STANDARD
END:VTIMEZONE
BEGIN:VEVENT
DTSTART;TZID=Europe/London:20241204T193000
DTEND;TZID=Europe/London:20241204T220000
DTSTAMP:20260422T090434
CREATED:20240206T233643Z
LAST-MODIFIED:20240206T233643Z
UID:1020-1733340600-1733349600@bexleymagic.org.uk
SUMMARY:Pre-Christmas Clear out!!
DESCRIPTION:Need some extra space before Christmas? Is your other half nagging saying that you’ve got too much magic? \nPerhaps you need some extra cash for Christmas or you’ve got something that you just want to get rid of some of your unused tricks? \nIf so\, bring it along to our club auction where they’ll go under the hammer. 
URL:http://bexleymagic.org.uk/event/pre-christmas-clear-out/
LOCATION:Club House\, Barton Close
ATTACH;FMTTYPE=image/jpeg:http://bexleymagic.org.uk/wp-content/uploads/2024/02/90386257-clear-out-text-written-on-pink-simple-circle-rubber-vintage-stamp.jpg
END:VEVENT
BEGIN:VEVENT
DTSTART;TZID=Europe/London:20241218T193000
DTEND;TZID=Europe/London:20241218T220000
DTSTAMP:20260422T090434
CREATED:20240206T234028Z
LAST-MODIFIED:20240206T234028Z
UID:1023-1734550200-1734559200@bexleymagic.org.uk
SUMMARY:Christmas drinks
DESCRIPTION:An informal evening that could be held at the local pub\, to see out the year and have a good catch up. \nLeave the car at home for this one 🙂
URL:http://bexleymagic.org.uk/event/christmas-drinks/
ATTACH;FMTTYPE=image/jpeg:http://bexleymagic.org.uk/wp-content/uploads/2024/02/fullers-the-old-hatchet-justindesouza-56.jpg
END:VEVENT
END:VCALENDAR