BEGIN:VCALENDAR
VERSION:2.0
PRODID:-//Bexley Magic Society - ECPv5.9.1//NONSGML v1.0//EN
CALSCALE:GREGORIAN
METHOD:PUBLISH
X-WR-CALNAME:Bexley Magic Society
X-ORIGINAL-URL:http://bexleymagic.org.uk
X-WR-CALDESC:Events for Bexley Magic Society
BEGIN:VTIMEZONE
TZID:Europe/London
BEGIN:DAYLIGHT
TZOFFSETFROM:+0000
TZOFFSETTO:+0100
TZNAME:BST
DTSTART:20210328T010000
END:DAYLIGHT
BEGIN:STANDARD
TZOFFSETFROM:+0100
TZOFFSETTO:+0000
TZNAME:GMT
DTSTART:20211031T010000
END:STANDARD
BEGIN:DAYLIGHT
TZOFFSETFROM:+0000
TZOFFSETTO:+0100
TZNAME:BST
DTSTART:20220327T010000
END:DAYLIGHT
BEGIN:STANDARD
TZOFFSETFROM:+0100
TZOFFSETTO:+0000
TZNAME:GMT
DTSTART:20221030T010000
END:STANDARD
END:VTIMEZONE
BEGIN:VEVENT
DTSTART;TZID=Europe/London:20220907T200000
DTEND;TZID=Europe/London:20220907T220000
DTSTAMP:20260419T203156
CREATED:20220507T140521Z
LAST-MODIFIED:20220507T140521Z
UID:851-1662580800-1662588000@bexleymagic.org.uk
SUMMARY:Shhh - it's a secret!
DESCRIPTION:A mystery evening… \nMwah\, mwah\, mwah!
URL:http://bexleymagic.org.uk/event/shhh-its-a-secret-2-2/
ATTACH;FMTTYPE=image/jpeg:http://bexleymagic.org.uk/wp-content/uploads/2020/01/images-6.jpeg
END:VEVENT
BEGIN:VEVENT
DTSTART;TZID=Europe/London:20220817T200000
DTEND;TZID=Europe/London:20220817T220000
DTSTAMP:20260419T203156
CREATED:20220507T140730Z
LAST-MODIFIED:20220605T202701Z
UID:853-1660766400-1660773600@bexleymagic.org.uk
SUMMARY:Ian Thom
DESCRIPTION:[Magicians only – no charge for non-members] \nWhat’s in the box?
URL:http://bexleymagic.org.uk/event/ian-thom/
ATTACH;FMTTYPE=image/jpeg:http://bexleymagic.org.uk/wp-content/uploads/2022/05/41FEY-E4j4L._AC_.jpg
END:VEVENT
BEGIN:VEVENT
DTSTART;TZID=Europe/London:20220803T200000
DTEND;TZID=Europe/London:20220803T220000
DTSTAMP:20260419T203156
CREATED:20220507T135917Z
LAST-MODIFIED:20220618T223845Z
UID:849-1659556800-1659564000@bexleymagic.org.uk
SUMMARY:An evening with Martin Cox
DESCRIPTION:What can we say about Martin Cox\, that hasn’t already been said? \nNothing.  But we can repeat that he’s a great comedy magician and a throughly decent chap. \nWe guarantee it will be a great night – be there or be square!
URL:http://bexleymagic.org.uk/event/shhh-its-a-secret-2/
ATTACH;FMTTYPE=image/jpeg:http://bexleymagic.org.uk/wp-content/uploads/2022/05/EynIXDXWYAAYNOw.jpeg
END:VEVENT
BEGIN:VEVENT
DTSTART;TZID=Europe/London:20220720T200000
DTEND;TZID=Europe/London:20220720T220000
DTSTAMP:20260419T203156
CREATED:20220507T134611Z
LAST-MODIFIED:20220605T202632Z
UID:834-1658347200-1658354400@bexleymagic.org.uk
SUMMARY:Roy Marsh
DESCRIPTION:[Magicians only – no charge for non-members] \nFramed – putting you in the picture
URL:http://bexleymagic.org.uk/event/roy-marsh/
ATTACH;FMTTYPE=image/jpeg:http://bexleymagic.org.uk/wp-content/uploads/2022/05/17314129595_47f0bd61ff_b.jpg
END:VEVENT
BEGIN:VEVENT
DTSTART;TZID=Europe/London:20220706T200000
DTEND;TZID=Europe/London:20220706T220000
DTSTAMP:20260419T203156
CREATED:20220507T135145Z
LAST-MODIFIED:20220605T202846Z
UID:842-1657137600-1657144800@bexleymagic.org.uk
SUMMARY:Ian Keable
DESCRIPTION:[Magicians only – £10 charge for non-members] \nIan is a Member of The Magic Circle with Gold Star. He has received The Magic Circle Comedy Magic Award and has also won the British Champion of Comedy Magic. He has written three books for the general public on magic and also two specialist books for the magic profession: this includes his highly acclaimed Stand-Up: A Professional Guide to Comedy Magic.
URL:http://bexleymagic.org.uk/event/ian-keable/
ATTACH;FMTTYPE=image/jpeg:http://bexleymagic.org.uk/wp-content/uploads/2022/05/ian-keable-2.jpg
END:VEVENT
BEGIN:VEVENT
DTSTART;TZID=Europe/London:20220615T200000
DTEND;TZID=Europe/London:20220615T220000
DTSTAMP:20260419T203156
CREATED:20220507T134955Z
LAST-MODIFIED:20220605T202233Z
UID:838-1655323200-1655330400@bexleymagic.org.uk
SUMMARY:John Morton - via Zoom
DESCRIPTION:[Magicians only – no charge for non-members] \nAward winning magician\, mind-reader and hypnotist\, John Morton has been creating moments of amazement for thousands of guests at weddings\, private parities and corporate events for more than 12 years.  Whether it’s correctly guessing the name of a spectators first pet\, cutting out a silhouette portrait of a famous celebrity that is merely being thought of\, or performing mind blowing slight of hand with playing cards\, John will leave everyone spellbound! \nIn March 2021 John successfully fooled magic legends Penn & Teller on their television program “Penn and Teller – Fool Us” winning not only the trophy\, but also the opportunity to perform his magic in their show at the Rio Casino in Las Vegas.​John also won “Close-Up Magician of the year” in 2021 at the Medway Magic Society’s annual competition and is a past winner of both “The Best Entertainment in Lincolnshire” and “The Best Entertainment in Yorkshire” awards at the Wedding Industry Awards which is voted by the public.
URL:http://bexleymagic.org.uk/event/john-morton-via-zoom/
ATTACH;FMTTYPE=image/jpeg:http://bexleymagic.org.uk/wp-content/uploads/2022/05/0_JWR_HMB_2603221_magician_10.jpg
END:VEVENT
BEGIN:VEVENT
DTSTART;TZID=Europe/London:20220601T200000
DTEND;TZID=Europe/London:20220601T220000
DTSTAMP:20260419T203156
CREATED:20220528T153608Z
LAST-MODIFIED:20220528T153951Z
UID:864-1654113600-1654120800@bexleymagic.org.uk
SUMMARY:Luke Oseland
DESCRIPTION:Aaaargh!  Anything but cards … \nPrepare for a high-energy evening with one of the most creative young magicians around
URL:http://bexleymagic.org.uk/event/roy-marsh-2/
LOCATION:Club House\, Barton Close
ATTACH;FMTTYPE=image/png:http://bexleymagic.org.uk/wp-content/uploads/2018/09/Anything-but-cards.png
END:VEVENT
BEGIN:VEVENT
DTSTART;TZID=Europe/London:20220518T200000
DTEND;TZID=Europe/London:20220518T220000
DTSTAMP:20260419T203156
CREATED:20211217T180129Z
LAST-MODIFIED:20220507T140302Z
UID:774-1652904000-1652911200@bexleymagic.org.uk
SUMMARY:Shhh - it's a secret!
DESCRIPTION:This evening’s event is SO special we’re keeping it secret for now. \nAlternatively\, we haven’t decided what’s happening yet. \nYou take your pick\, but come back to find out
URL:http://bexleymagic.org.uk/event/shhh-its-a-secret/
ATTACH;FMTTYPE=image/jpeg:http://bexleymagic.org.uk/wp-content/uploads/2020/01/its-a-mystery-500x325-1.jpg
END:VEVENT
BEGIN:VEVENT
DTSTART;TZID=Europe/London:20220504T193000
DTEND;TZID=Europe/London:20220504T220000
DTSTAMP:20260419T203156
CREATED:20211217T180525Z
LAST-MODIFIED:20211217T181519Z
UID:779-1651692600-1651701600@bexleymagic.org.uk
SUMMARY:Ben Earl lecture
DESCRIPTION:Ben Earl is a British magician\, sleight-of-hand specialist\, and illusionist. \nHe appeared in the pilot episode of Penn & Teller: Fool Us and is one of eleven performers in the first season that “fooled” Penn and Teller in the episodes that went to air.
URL:http://bexleymagic.org.uk/event/dave-loosely-lecture-3/
LOCATION:Club House\, Barton Close
ATTACH;FMTTYPE=image/jpeg:http://bexleymagic.org.uk/wp-content/uploads/2021/12/ben-earl-1_0.jpg
END:VEVENT
BEGIN:VEVENT
DTSTART;TZID=Europe/London:20220420T193000
DTEND;TZID=Europe/London:20220420T220000
DTSTAMP:20260419T203156
CREATED:20211217T180418Z
LAST-MODIFIED:20220303T163513Z
UID:776-1650483000-1650492000@bexleymagic.org.uk
SUMMARY:Dave Andrews special
DESCRIPTION:How did I earn a living for 40 years?? \nCome and be amazed
URL:http://bexleymagic.org.uk/event/dave-andrews-special/
ATTACH;FMTTYPE=image/webp:http://bexleymagic.org.uk/wp-content/uploads/2021/12/Dave-Andrews.jpg.webp
END:VEVENT
BEGIN:VEVENT
DTSTART;TZID=Europe/London:20220406T193000
DTEND;TZID=Europe/London:20220406T220000
DTSTAMP:20260419T203156
CREATED:20211217T174921Z
LAST-MODIFIED:20220303T163554Z
UID:765-1649273400-1649282400@bexleymagic.org.uk
SUMMARY:Tricks from the library
DESCRIPTION:Tonight we invite you all to come along and perform a trick from one of the books in our library.
URL:http://bexleymagic.org.uk/event/auction-2/
LOCATION:Club House\, Barton Close
ATTACH;FMTTYPE=image/jpeg:http://bexleymagic.org.uk/wp-content/uploads/2021/12/Bibliothek_400x400.jpg
END:VEVENT
BEGIN:VEVENT
DTSTART;TZID=Europe/London:20220316T193000
DTEND;TZID=Europe/London:20220316T220000
DTSTAMP:20260419T203156
CREATED:20210916T203945Z
LAST-MODIFIED:20211217T174439Z
UID:735-1647459000-1647468000@bexleymagic.org.uk
SUMMARY:Wayne Fox lecture
DESCRIPTION:
URL:http://bexleymagic.org.uk/event/dave-loosely-lecture/
LOCATION:Club House\, Barton Close
ATTACH;FMTTYPE=image/jpeg:http://bexleymagic.org.uk/wp-content/uploads/2021/09/images-3.jpeg
END:VEVENT
BEGIN:VEVENT
DTSTART;TZID=Europe/London:20220302T193000
DTEND;TZID=Europe/London:20220302T220000
DTSTAMP:20260419T203156
CREATED:20211120T110939Z
LAST-MODIFIED:20211217T174123Z
UID:749-1646249400-1646258400@bexleymagic.org.uk
SUMMARY:Richard Pinner lecture
DESCRIPTION:
URL:http://bexleymagic.org.uk/event/dave-loosely-lecture-2/
LOCATION:Club House\, Barton Close
ATTACH;FMTTYPE=image/jpeg:http://bexleymagic.org.uk/wp-content/uploads/2021/11/145552875_HsRBOzJnZ6YdxV83ZTupBU2cmtMvVUUKaeWC0ZBWjkE.jpg
END:VEVENT
BEGIN:VEVENT
DTSTART;TZID=Europe/London:20220202T080000
DTEND;TZID=Europe/London:20220202T170000
DTSTAMP:20260419T203156
CREATED:20211217T175825Z
LAST-MODIFIED:20220118T195107Z
UID:770-1643788800-1643821200@bexleymagic.org.uk
SUMMARY:Close-up Competition
DESCRIPTION:
URL:http://bexleymagic.org.uk/event/close-up-competition/
ATTACH;FMTTYPE=image/jpeg:http://bexleymagic.org.uk/wp-content/uploads/2021/12/Too-Many-Magicians.jpg
END:VEVENT
BEGIN:VEVENT
DTSTART;TZID=Europe/London:20220119T080000
DTEND;TZID=Europe/London:20220119T170000
DTSTAMP:20260419T203156
CREATED:20211217T175332Z
LAST-MODIFIED:20211217T175350Z
UID:768-1642579200-1642611600@bexleymagic.org.uk
SUMMARY:AGM
DESCRIPTION:
URL:http://bexleymagic.org.uk/event/agm/
ATTACH;FMTTYPE=image/png:http://bexleymagic.org.uk/wp-content/uploads/2018/12/agm-post-it.png
END:VEVENT
BEGIN:VEVENT
DTSTART;TZID=Europe/London:20220105T193000
DTEND;TZID=Europe/London:20220105T220000
DTSTAMP:20260419T203156
CREATED:20211217T174633Z
LAST-MODIFIED:20211217T174633Z
UID:762-1641411000-1641420000@bexleymagic.org.uk
SUMMARY:No meeting
DESCRIPTION:
URL:http://bexleymagic.org.uk/event/christmas-party-2/
LOCATION:Club House\, Barton Close
ATTACH;FMTTYPE=image/jpeg:http://bexleymagic.org.uk/wp-content/uploads/2021/12/NO_MEET_TODAY_2_1.jpg
END:VEVENT
BEGIN:VEVENT
DTSTART;TZID=Europe/London:20211215T193000
DTEND;TZID=Europe/London:20211215T220000
DTSTAMP:20260419T203157
CREATED:20210916T204057Z
LAST-MODIFIED:20210916T204057Z
UID:737-1639596600-1639605600@bexleymagic.org.uk
SUMMARY:Christmas Party
DESCRIPTION:
URL:http://bexleymagic.org.uk/event/christmas-party/
LOCATION:Club House\, Barton Close
ATTACH;FMTTYPE=image/png:http://bexleymagic.org.uk/wp-content/uploads/2018/04/1812130.png
END:VEVENT
BEGIN:VEVENT
DTSTART;TZID=Europe/London:20211006T193000
DTEND;TZID=Europe/London:20211006T220000
DTSTAMP:20260419T203157
CREATED:20210916T203839Z
LAST-MODIFIED:20210916T205129Z
UID:733-1633548600-1633557600@bexleymagic.org.uk
SUMMARY:Auction
DESCRIPTION:Come along and put in a bid or two.  You may go home with a real bargain
URL:http://bexleymagic.org.uk/event/auction/
LOCATION:Club House\, Barton Close
ATTACH;FMTTYPE=image/jpeg:http://bexleymagic.org.uk/wp-content/uploads/2021/08/5-Auction-Tips-for-Beginners2.jpg
END:VEVENT
END:VCALENDAR