BEGIN:VCALENDAR
VERSION:2.0
PRODID:-//Bexley Magic Society - ECPv5.9.1//NONSGML v1.0//EN
CALSCALE:GREGORIAN
METHOD:PUBLISH
X-WR-CALNAME:Bexley Magic Society
X-ORIGINAL-URL:http://bexleymagic.org.uk
X-WR-CALDESC:Events for Bexley Magic Society
BEGIN:VTIMEZONE
TZID:Europe/London
BEGIN:DAYLIGHT
TZOFFSETFROM:+0000
TZOFFSETTO:+0100
TZNAME:BST
DTSTART:20210328T010000
END:DAYLIGHT
BEGIN:STANDARD
TZOFFSETFROM:+0100
TZOFFSETTO:+0000
TZNAME:GMT
DTSTART:20211031T010000
END:STANDARD
BEGIN:DAYLIGHT
TZOFFSETFROM:+0000
TZOFFSETTO:+0100
TZNAME:BST
DTSTART:20220327T010000
END:DAYLIGHT
BEGIN:STANDARD
TZOFFSETFROM:+0100
TZOFFSETTO:+0000
TZNAME:GMT
DTSTART:20221030T010000
END:STANDARD
END:VTIMEZONE
BEGIN:VEVENT
DTSTART;TZID=Europe/London:20220302T193000
DTEND;TZID=Europe/London:20220302T220000
DTSTAMP:20260419T222226
CREATED:20211120T110939Z
LAST-MODIFIED:20211217T174123Z
UID:749-1646249400-1646258400@bexleymagic.org.uk
SUMMARY:Richard Pinner lecture
DESCRIPTION:
URL:http://bexleymagic.org.uk/event/dave-loosely-lecture-2/
LOCATION:Club House\, Barton Close
ATTACH;FMTTYPE=image/jpeg:http://bexleymagic.org.uk/wp-content/uploads/2021/11/145552875_HsRBOzJnZ6YdxV83ZTupBU2cmtMvVUUKaeWC0ZBWjkE.jpg
END:VEVENT
BEGIN:VEVENT
DTSTART;TZID=Europe/London:20220202T080000
DTEND;TZID=Europe/London:20220202T170000
DTSTAMP:20260419T222226
CREATED:20211217T175825Z
LAST-MODIFIED:20220118T195107Z
UID:770-1643788800-1643821200@bexleymagic.org.uk
SUMMARY:Close-up Competition
DESCRIPTION:
URL:http://bexleymagic.org.uk/event/close-up-competition/
ATTACH;FMTTYPE=image/jpeg:http://bexleymagic.org.uk/wp-content/uploads/2021/12/Too-Many-Magicians.jpg
END:VEVENT
BEGIN:VEVENT
DTSTART;TZID=Europe/London:20220119T080000
DTEND;TZID=Europe/London:20220119T170000
DTSTAMP:20260419T222226
CREATED:20211217T175332Z
LAST-MODIFIED:20211217T175350Z
UID:768-1642579200-1642611600@bexleymagic.org.uk
SUMMARY:AGM
DESCRIPTION:
URL:http://bexleymagic.org.uk/event/agm/
ATTACH;FMTTYPE=image/png:http://bexleymagic.org.uk/wp-content/uploads/2018/12/agm-post-it.png
END:VEVENT
BEGIN:VEVENT
DTSTART;TZID=Europe/London:20220105T193000
DTEND;TZID=Europe/London:20220105T220000
DTSTAMP:20260419T222226
CREATED:20211217T174633Z
LAST-MODIFIED:20211217T174633Z
UID:762-1641411000-1641420000@bexleymagic.org.uk
SUMMARY:No meeting
DESCRIPTION:
URL:http://bexleymagic.org.uk/event/christmas-party-2/
LOCATION:Club House\, Barton Close
ATTACH;FMTTYPE=image/jpeg:http://bexleymagic.org.uk/wp-content/uploads/2021/12/NO_MEET_TODAY_2_1.jpg
END:VEVENT
BEGIN:VEVENT
DTSTART;TZID=Europe/London:20211215T193000
DTEND;TZID=Europe/London:20211215T220000
DTSTAMP:20260419T222226
CREATED:20210916T204057Z
LAST-MODIFIED:20210916T204057Z
UID:737-1639596600-1639605600@bexleymagic.org.uk
SUMMARY:Christmas Party
DESCRIPTION:
URL:http://bexleymagic.org.uk/event/christmas-party/
LOCATION:Club House\, Barton Close
ATTACH;FMTTYPE=image/png:http://bexleymagic.org.uk/wp-content/uploads/2018/04/1812130.png
END:VEVENT
BEGIN:VEVENT
DTSTART;TZID=Europe/London:20211006T193000
DTEND;TZID=Europe/London:20211006T220000
DTSTAMP:20260419T222226
CREATED:20210916T203839Z
LAST-MODIFIED:20210916T205129Z
UID:733-1633548600-1633557600@bexleymagic.org.uk
SUMMARY:Auction
DESCRIPTION:Come along and put in a bid or two.  You may go home with a real bargain
URL:http://bexleymagic.org.uk/event/auction/
LOCATION:Club House\, Barton Close
ATTACH;FMTTYPE=image/jpeg:http://bexleymagic.org.uk/wp-content/uploads/2021/08/5-Auction-Tips-for-Beginners2.jpg
END:VEVENT
END:VCALENDAR