BEGIN:VCALENDAR
VERSION:2.0
PRODID:-//Bexley Magic Society - ECPv5.9.1//NONSGML v1.0//EN
CALSCALE:GREGORIAN
METHOD:PUBLISH
X-WR-CALNAME:Bexley Magic Society
X-ORIGINAL-URL:https://bexleymagic.org.uk
X-WR-CALDESC:Events for Bexley Magic Society
BEGIN:VTIMEZONE
TZID:Europe/London
BEGIN:DAYLIGHT
TZOFFSETFROM:+0000
TZOFFSETTO:+0100
TZNAME:BST
DTSTART:20240331T010000
END:DAYLIGHT
BEGIN:STANDARD
TZOFFSETFROM:+0100
TZOFFSETTO:+0000
TZNAME:GMT
DTSTART:20241027T010000
END:STANDARD
END:VTIMEZONE
BEGIN:VEVENT
DTSTART;TZID=Europe/London:20240306T193000
DTEND;TZID=Europe/London:20240306T220000
DTSTAMP:20260421T092913
CREATED:20240206T170747Z
LAST-MODIFIED:20240206T170747Z
UID:960-1709753400-1709762400@bexleymagic.org.uk
SUMMARY:Adam Bloom - Live Q&A
DESCRIPTION:Comedian and best selling author Adam Bloom will be hosting a live Q&A on how to write original material  \n\n\n	Related
URL:https://bexleymagic.org.uk/event/adam-bloom-live-qa/
LOCATION:Club House\, Barton Close
ATTACH;FMTTYPE=image/jpeg:https://bexleymagic.org.uk/wp-content/uploads/2024/02/p01pr8f9.jpg
END:VEVENT
END:VCALENDAR