BEGIN:VCALENDAR
VERSION:2.0
PRODID:-//Bexley Magic Society - ECPv5.9.1//NONSGML v1.0//EN
CALSCALE:GREGORIAN
METHOD:PUBLISH
X-WR-CALNAME:Bexley Magic Society
X-ORIGINAL-URL:https://bexleymagic.org.uk
X-WR-CALDESC:Events for Bexley Magic Society
BEGIN:VTIMEZONE
TZID:Europe/London
BEGIN:DAYLIGHT
TZOFFSETFROM:+0000
TZOFFSETTO:+0100
TZNAME:BST
DTSTART:20240331T010000
END:DAYLIGHT
BEGIN:STANDARD
TZOFFSETFROM:+0100
TZOFFSETTO:+0000
TZNAME:GMT
DTSTART:20241027T010000
END:STANDARD
END:VTIMEZONE
BEGIN:VEVENT
DTSTART;TZID=Europe/London:20240403T193000
DTEND;TZID=Europe/London:20240403T220000
DTSTAMP:20260421T092923
CREATED:20240206T171444Z
LAST-MODIFIED:20240206T171444Z
UID:967-1712172600-1712181600@bexleymagic.org.uk
SUMMARY:Coins\, cards\, and everything in between
DESCRIPTION:Bring along as many coin\, card and any other trick you can shoe horn into the topic for the evening. Prizes for the most inventive trick\, booby prize for the cheesiest trick \n\n\n	Related
URL:https://bexleymagic.org.uk/event/coins-cards-and-everything-in-between/
LOCATION:Club House\, Barton Close
ATTACH;FMTTYPE=image/jpeg:https://bexleymagic.org.uk/wp-content/uploads/2024/02/50180270-two-red-dice-game-cards-and-stack-of-coins.jpg
END:VEVENT
END:VCALENDAR