BEGIN:VCALENDAR
VERSION:2.0
PRODID:-//Bexley Magic Society - ECPv5.9.1//NONSGML v1.0//EN
CALSCALE:GREGORIAN
METHOD:PUBLISH
X-WR-CALNAME:Bexley Magic Society
X-ORIGINAL-URL:https://bexleymagic.org.uk
X-WR-CALDESC:Events for Bexley Magic Society
BEGIN:VTIMEZONE
TZID:Europe/London
BEGIN:DAYLIGHT
TZOFFSETFROM:+0000
TZOFFSETTO:+0100
TZNAME:BST
DTSTART:20240331T010000
END:DAYLIGHT
BEGIN:STANDARD
TZOFFSETFROM:+0100
TZOFFSETTO:+0000
TZNAME:GMT
DTSTART:20241027T010000
END:STANDARD
END:VTIMEZONE
BEGIN:VEVENT
DTSTART;TZID=Europe/London:20240918T193000
DTEND;TZID=Europe/London:20240918T220000
DTSTAMP:20260420T093331
CREATED:20240206T184113Z
LAST-MODIFIED:20240206T231043Z
UID:1004-1726687800-1726696800@bexleymagic.org.uk
SUMMARY:Kevin Doig - Acting and Presentation skills
DESCRIPTION:Kevin Doig presents an evening of entertainment delivering his popular lecture covering performance and using the stage to your advantage. If you’re a performing magician you will get loads out of this lecture.  \n\n\n	Related
URL:https://bexleymagic.org.uk/event/kevin-doig-acting-and-presentation-skills/
LOCATION:Club House\, Barton Close
ATTACH;FMTTYPE=image/jpeg:https://bexleymagic.org.uk/wp-content/uploads/2024/02/7403171952_3d0a8fde89_b.jpg
END:VEVENT
END:VCALENDAR